BEGIN:VCALENDAR
VERSION:2.0
PRODID:-//wp-events-plugin.com//7.2.3.1//EN
BEGIN:VEVENT
UID:85@imapopyoga.com
DTSTART;TZID=Europe/Paris:20240728T100000
DTEND;TZID=Europe/Paris:20240728T110000
DTSTAMP:20240712T145903Z
URL:https://imapopyoga.com/events/%f0%9f%8d%83pop-pilates-au-parc/
SUMMARY:Pop Pilates au parc !
DESCRIPTION:Cours tous niveaux\n\nParc de la Gloriette*\n\nUne pause au fra
 is pour tonifier tout notre corps en musique !!\n\n(Je communiquerai la lo
 calisation exacte plus tard aux participant.es)\n\nPrix : 10€ / 6€ pou
 r les personnes qui ont (ou avaient !) un abonnement avec moi cette année
 .\n\nPaiements en espèces\, réservation obligatoire ! (Me contacter dire
 ctement ici\, sur whatsapp au 06 02 44 36 51 ou bien sur instagram @imapop
 yoga)\n\n*selon la météo\, les cours peuvent être annulés ou déplacé
 s au 1 rue du Maréchal Lyautey.
ATTACH;FMTTYPE=image/jpeg:https://imapopyoga.com/wp-content/uploads/2024/0
 7/20.png
END:VEVENT
BEGIN:VTIMEZONE
TZID:Europe/Paris
X-LIC-LOCATION:Europe/Paris
BEGIN:DAYLIGHT
DTSTART:20240331T030000
TZOFFSETFROM:+0100
TZOFFSETTO:+0200
TZNAME:CEST
END:DAYLIGHT
END:VTIMEZONE
END:VCALENDAR