BEGIN:VCALENDAR
VERSION:2.0
PRODID:-//wp-events-plugin.com//7.2.3.1//EN
BEGIN:VEVENT
UID:87@imapopyoga.com
DTSTART;TZID=Europe/Paris:20250814T191500
DTEND;TZID=Europe/Paris:20250814T201500
DTSTAMP:20250805T133700Z
URL:https://imapopyoga.com/events/cours-de-yoga-au-parc-yoga-aux-prebendes
 /
SUMMARY:Yoga aux Prébendes
DESCRIPTION:Un cours de Yoga tous niveaux (prénatal et postnatal friendly 
 !) pour pratiquer autrement\, et toujours dans la bonne humeur.\n\n(Attent
 ion\, faire du yoga en plein air devient vite addictif !!)  \n\nPrix : 1
 0€ / 8€ pour les abonnées.\n\nPaiements en espèces\, réservation ob
 ligatoire ici.\n\n(Si tu as des questions\, n'hésite pas à me contacter 
 directement ici\, sur whatsapp au 06 02 44 36 51 ou bien sur instagram @im
 apopyoga)\n\n*selon la météo\, les cours peuvent être annulés ou dépl
 acés
ATTACH;FMTTYPE=image/jpeg:https://imapopyoga.com/wp-content/uploads/2024/0
 7/yoga-au-parc-e1752500456119.png
CATEGORIES:Yoga
END:VEVENT
BEGIN:VTIMEZONE
TZID:Europe/Paris
X-LIC-LOCATION:Europe/Paris
BEGIN:DAYLIGHT
DTSTART:20250330T030000
TZOFFSETFROM:+0100
TZOFFSETTO:+0200
TZNAME:CEST
END:DAYLIGHT
END:VTIMEZONE
END:VCALENDAR