BEGIN:VCALENDAR
VERSION:2.0
PRODID:-//wp-events-plugin.com//7.2.3.1//EN
BEGIN:VEVENT
UID:102@imapopyoga.com
DTSTART;TZID=Europe/Paris:20241207T103000
DTEND;TZID=Europe/Paris:20241207T123000
DTSTAMP:20241202T113005Z
URL:https://imapopyoga.com/events/fiere-detre-une-sorciere-atelier-yoga-sp
 ecial-halloween/
SUMMARY:Libération & Création * Atelier Yoga de fin d'année *
DESCRIPTION:Comme les années précédentes\, cette année a laissé ses tr
 aces : les situations vécues\, et surtout\, comment on y a réagi. Alors 
 oui\, comme dirait cette chère Elsa\, « le passé est passé »… et on
  y peut rien !!\n\n*MAIS* l’empreinte émotionnelle et les ressentis qu
 ’il a déposés en toi ?\n\n Ça\, tu peux t’en libérer \n\nSe pard
 onner\, lâcher prise… c’est possible\, LIBÉRATEUR et nécessaire pou
 r briller encore plus fort.\n\n Et c’est exactement ce qu’on va faire
  le 7 décembre. \n\nLibérer ton esprit et ton corps de tout ce dont tu 
 n'as plus besoin... pour aborder 2025 avec confiance \n\net l'assurance qu
 e ce sera LA meilleure année pour toi et tes projets !!!\n\nPrête à tou
 t laisser *exploser* et à faire la paix avec toi-même ?\n\n* Au programm
 e :\n\nUne pratique de yoga spéciale\, pensée afin de te permettre de li
 bérer tensions\, colère et frustration (pas parce qu’on n’a pas le d
 roit d’en avoir\, mais parce que ça fait du bien !).\nSuivi d’une act
 ivité introspective d’écriture et place à un peu de création !!\nTu 
 repartiras avec une carte de vœux unique !\n\n* Pour tous.tes :\n\nQue tu
  sois déjà pratiquant.e ou totalement débutant.e en yoga\, cet atelier 
 est accessible à TOUS les niveaux.\n\n* Places limitées :\n\nPour garant
 ir un espace confortable et une ambiance conviviale\, les places sont volo
 ntairement restreintes.\n\nEt en janvier ?\nLe 19 janvier\, de 14h à 16h\
 , on se retrouve pour l’atelier complémentaire. Après avoir fait le gr
 and ménage et accueilli nos parts d’ombre\, place à l’éclat ! ✨\n
 Cet atelier t’aidera à poser les bases d’une année alignée\, en exp
 lorant tout ton potentiel. Au programme : création d’un vision board un
 ique pour une année 2025 qui te ressemble et te fait vibrer.\n\n*Infos pr
 atiques :*\n\nLieu : 1 rue du Maréchal Lyautey\, Tours\n\nDate et horaire
 s :\n* Samedi 7 décembre\, 10h30-12h30 (en présentiel)\n* Dimanche 8 dé
 cembre\, 14h30-16h30 (en ligne sur Teams)\n\n*  Tarifs :\n* Présentiel :
  40€ (30€ si tu as un abonnement à mes cours réguliers)\n* Offre duo
  : Participe aux deux ateliers (7 décembre et 19 janvier) pour 65€ au l
 ieu de 80€ !\n\n*en ligne : 25€\n\nTicket spécial disponible dans la 
 rubrique "réservation".
ATTACH;FMTTYPE=image/jpeg:https://imapopyoga.com/wp-content/uploads/2024/1
 0/reel-cover-1.png
CATEGORIES:Yoga
END:VEVENT
BEGIN:VTIMEZONE
TZID:Europe/Paris
X-LIC-LOCATION:Europe/Paris
BEGIN:STANDARD
DTSTART:20241027T020000
TZOFFSETFROM:+0200
TZOFFSETTO:+0100
TZNAME:CET
END:STANDARD
END:VTIMEZONE
END:VCALENDAR