BEGIN:VCALENDAR
VERSION:2.0
PRODID:-//wp-events-plugin.com//7.2.3.1//EN
BEGIN:VEVENT
UID:77@imapopyoga.com
DTSTART;TZID=Europe/Paris:20240626T104500
DTEND;TZID=Europe/Paris:20240626T114500
DTSTAMP:20240618T131652Z
URL:https://imapopyoga.com/events/fit-yoga-avec-bebe-2-2024-06-26/
SUMMARY:Fit yoga avec bébé
DESCRIPTION:[cours récurrent] Une bulle de bien-être qui mélange douceur
  et force\, en compagnie de ton bébé ! Spécialement conçue pour les je
 unes mamans\, cette classe est ouverte à tous les niveaux et offre une pa
 use bienvenue dans le tumulte du quotidien. C’est l’occasion de te ret
 rouver\, de te reconnecter à ton corps\, d’en éliminer les tensions et
  de partager un moment privilégié à deux.\n\nEn savoir plus sur les cou
 rs.\n\nRéserve ta place ici.
ATTACH;FMTTYPE=image/jpeg:https://imapopyoga.com/wp-content/uploads/2024/0
 5/Fit-yoga-moms-1.png
LOCATION:WMA\, 1 rue du maréchal lyautey\, Tours \, 37000\, France
X-APPLE-STRUCTURED-LOCATION;VALUE=URI;X-ADDRESS=1 rue du maréchal lyautey\
 , Tours \, 37000\, France;X-APPLE-RADIUS=100;X-TITLE=WMA:geo:0,0
END:VEVENT
BEGIN:VTIMEZONE
TZID:Europe/Paris
X-LIC-LOCATION:Europe/Paris
BEGIN:DAYLIGHT
DTSTART:20240331T030000
TZOFFSETFROM:+0100
TZOFFSETTO:+0200
TZNAME:CEST
END:DAYLIGHT
END:VTIMEZONE
END:VCALENDAR