BEGIN:VCALENDAR
VERSION:2.0
PRODID:-//wp-events-plugin.com//7.2.3.1//EN
BEGIN:VEVENT
UID:3@imapopyoga.com
DTSTART:20240517T153000Z
DTEND:20240517T163000Z
DTSTAMP:20240509T104139Z
URL:https://imapopyoga.com/events/fit-yoga-avec-bebe/
SUMMARY:Fit yoga avec bébé
DESCRIPTION:
CATEGORIES:Fit yoga avec bébé
LOCATION:WMA\, 1 rue du maréchal lyautey\, Tours \, 37000\, France
X-APPLE-STRUCTURED-LOCATION;VALUE=URI;X-ADDRESS=1 rue du maréchal lyautey\
 , Tours \, 37000\, France;X-APPLE-RADIUS=100;X-TITLE=WMA:geo:0,0
END:VEVENT
END:VCALENDAR