BEGIN:VCALENDAR
VERSION:2.0
PRODID:-//wp-events-plugin.com//7.2.3.1//EN
BEGIN:VEVENT
UID:89@imapopyoga.com
DTSTART;TZID=Europe/Paris:20240727T160000
DTEND;TZID=Europe/Paris:20240727T170000
DTSTAMP:20240712T154015Z
URL:https://imapopyoga.com/events/pop-pilates-2/
SUMMARY:Pop Pilates en famille !
DESCRIPTION:Un cours de Pop pilates à partager !\n\nEn couple ou en solo\,
  viens avec ton ou tes petits bouts !\n\n1 rue du Maréchal Lyautey*\n\nLe
  cours n'est pas créé pour les enfants\, mais si des apprenties Poppies 
 qui ont déjà le goût de se trémousser en musique souhaitent participer
 \, je me ferai un plaisir de rendre le cours plus accessibles pour eux !! 
 (à partir de 9 ans).\n\nSinon\, l'espace jeu est ouvert et accueillera to
 ut le monde avec plaisir !\n\nNe pas hésiter à me contacter pour plus d'
 informations.\n\nRéservation obligatoire ! (Me contacter ici\, sur instag
 ram @imapopyoga ou whatsapp au 06 02 44 36 51)\n\n20€ adulte solo / 25
 € couple \n\nEnfant de 9 ans et plus qui souhaitent participer = 5€\n\
 nEn savoir plus sur les cours.\n
ATTACH;FMTTYPE=image/jpeg:https://imapopyoga.com/wp-content/uploads/2024/0
 7/2024-4.png
END:VEVENT
BEGIN:VTIMEZONE
TZID:Europe/Paris
X-LIC-LOCATION:Europe/Paris
BEGIN:DAYLIGHT
DTSTART:20240331T030000
TZOFFSETFROM:+0100
TZOFFSETTO:+0200
TZNAME:CEST
END:DAYLIGHT
END:VTIMEZONE
END:VCALENDAR