BEGIN:VCALENDAR
VERSION:2.0
PRODID:-//wp-events-plugin.com//7.2.3.1//EN
BEGIN:VEVENT
UID:60@imapopyoga.com
DTSTART:20240618T190000Z
DTEND:20240618T200000Z
DTSTAMP:20240618T131921Z
URL:https://imapopyoga.com/events/pop-pilates-2024-06-18/
SUMMARY:Pop pilates
DESCRIPTION:[cours récurrent le mardi ] Connais-tu les nombreux bienfaits 
 du Pilates ? Un corps tonique et flexible\, une posture améliorée\, une 
 réduction du stress… Imagine maintenant associer ces bénéfices à des
  enchaînements d’exercices uniques\, synchronisés sur les meilleurs hi
 ts de musique pop ! C’est ce qu’offre le Pop pilates\, et bien plus en
 core…\n\nEn savoir plus sur les cours.\n\nRéserve ta place ici.
ATTACH;FMTTYPE=image/jpeg:https://imapopyoga.com/wp-content/uploads/2024/0
 5/Pop-Pilates-1.png
LOCATION:WMA\, 1 rue du maréchal lyautey\, Tours \, 37000\, France
X-APPLE-STRUCTURED-LOCATION;VALUE=URI;X-ADDRESS=1 rue du maréchal lyautey\
 , Tours \, 37000\, France;X-APPLE-RADIUS=100;X-TITLE=WMA:geo:0,0
END:VEVENT
END:VCALENDAR