BEGIN:VCALENDAR
VERSION:2.0
PRODID:-//wp-events-plugin.com//7.2.3.1//EN
BEGIN:VEVENT
UID:90@imapopyoga.com
DTSTART;TZID=Europe/Paris:20240726T180000
DTEND;TZID=Europe/Paris:20240726T190000
DTSTAMP:20240712T154422Z
URL:https://imapopyoga.com/events/pop-pilates-3/
SUMMARY:Pop Pilates !
DESCRIPTION:Cours tous niveaux\, ouvert à tout le monde !\n\n1 rue du Mar
 échal Lyautey*\n\nDu pilates et tous ses bienfaits... mais en mieux ! \;)
  Viens tonifier et assouplir ton corps\, travailler ton cardio sur des mus
 iques pop ultra entraînantes !\n\nTicket découverte : 15€\n\nTicket un
 e séance : 20€\n\nSi tu as un carnet de tickets\, tu peux l'utiliser po
 ur participer !\n\nEn savoir plus sur les cours.\n\n\nRéserve ta place ic
 i !
ATTACH;FMTTYPE=image/jpeg:https://imapopyoga.com/wp-content/uploads/2024/0
 7/2024-3-1.png
END:VEVENT
BEGIN:VTIMEZONE
TZID:Europe/Paris
X-LIC-LOCATION:Europe/Paris
BEGIN:DAYLIGHT
DTSTART:20240331T030000
TZOFFSETFROM:+0100
TZOFFSETTO:+0200
TZNAME:CEST
END:DAYLIGHT
END:VTIMEZONE
END:VCALENDAR