BEGIN:VCALENDAR
VERSION:2.0
PRODID:-//wp-events-plugin.com//7.2.3.1//EN
BEGIN:VEVENT
UID:93@imapopyoga.com
DTSTART;TZID=Europe/Paris:20240828T100000
DTEND;TZID=Europe/Paris:20240828T110000
DTSTAMP:20240712T160728Z
URL:https://imapopyoga.com/events/pop-pilates-en-famille-au-parc/
SUMMARY:Pop Pilates en famille\, au parc !
DESCRIPTION:Un cours de Pop pilates à partager !\n\nEn couple ou en solo\,
  viens tonifier tout ton corps sur de la bonne musique\, avec ton ou tes p
 etits bouts !\n\nParc de la Gloriette* (je communiquerai la localisation e
 xacte aux participant.es plus tard.)\n\nLe cours n'est pas créé pour les
  enfants\, mais si des apprenties Poppies qui ont déjà le goût de se tr
 émousser en musique souhaitent participer\, je me ferai un plaisir de ren
 dre le cours plus accessibles pour eux !! (à partir de 9 ans).\n\nNe pas 
 hésiter à me contacter pour plus d'informations. :)\n\nPaiement en espè
 ces. Réservation obligatoire ! (Me contacter ici\, sur instagram @imapopy
 oga ou whatsapp au 06 02 44 36 51)\n\n15€ adulte solo / 20€ couple \n\
 n10€ pour les personnes qui ont (ou avaient) un abonnement à mes cours.
 \n\n*Selon la météo\, le cours pourra être annulé ou déplacé à la W
 onder Wom Academy.\n\nEn savoir plus sur les cours.\n
ATTACH;FMTTYPE=image/jpeg:https://imapopyoga.com/wp-content/uploads/2024/0
 7/2024-4.png
END:VEVENT
BEGIN:VTIMEZONE
TZID:Europe/Paris
X-LIC-LOCATION:Europe/Paris
BEGIN:DAYLIGHT
DTSTART:20240331T030000
TZOFFSETFROM:+0100
TZOFFSETTO:+0200
TZNAME:CEST
END:DAYLIGHT
END:VTIMEZONE
END:VCALENDAR