BEGIN:VCALENDAR
VERSION:2.0
PRODID:-//wp-events-plugin.com//7.2.3.1//EN
BEGIN:VEVENT
UID:91@imapopyoga.com
DTSTART;TZID=Europe/Paris:20240803T110000
DTEND;TZID=Europe/Paris:20240803T120000
DTSTAMP:20240712T160502Z
URL:https://imapopyoga.com/events/pop-pilates-en-famille-pique-nique/
SUMMARY:Pop Pilates en famille + pique-nique !
DESCRIPTION:Un cours de Pop pilates à partager !\n\nEn couple ou en solo\,
  viens tonifier tout ton corps sur de la bonne musique\, avec ton ou tes p
 etits bouts !\n\nCours suivi d'un pique-nique pour celles et ceux qui le s
 ouhaitent :) Cela nous permettra de faire plus ample connaissance\, et pou
 r mes wonder mamans : je sais que les moments d'échanges entre mamans son
 t précieux\, je serai ravie si cela vous donne l'occasion de mieux vous c
 onnaitre.\n\nParc de la Gloriette* (je communiquerai la localisation exact
 e aux participant.es plus tard.)\n\nLe cours n'est pas créé pour les enf
 ants\, mais si des apprenties Poppies qui ont déjà le goût de se trémo
 usser en musique souhaitent participer\, je me ferai un plaisir de rendre 
 le cours plus accessibles pour eux !! (à partir de 9 ans).\n\nNe pas hés
 iter à me contacter pour plus d'informations. :)\n\nPaiement en espèces.
  Réservation obligatoire ! (Me contacter ici\, sur instagram @imapopyoga 
 ou whatsapp au 06 02 44 36 51)\n\n15€ adulte solo / 20€ couple \n\n10
 € pour les personnes qui ont (ou avaient) un abonnement à mes cours.\n\
 n*Selon la météo\, le cours pourra être annulé ou déplacé à la Wond
 er Wom Academy.\n\nEn savoir plus sur les cours.\n
ATTACH;FMTTYPE=image/jpeg:https://imapopyoga.com/wp-content/uploads/2024/0
 7/2024-4.png
END:VEVENT
BEGIN:VTIMEZONE
TZID:Europe/Paris
X-LIC-LOCATION:Europe/Paris
BEGIN:DAYLIGHT
DTSTART:20240331T030000
TZOFFSETFROM:+0100
TZOFFSETTO:+0200
TZNAME:CEST
END:DAYLIGHT
END:VTIMEZONE
END:VCALENDAR