BEGIN:VCALENDAR
VERSION:2.0
PRODID:-//wp-events-plugin.com//7.2.3.1//EN
BEGIN:VEVENT
UID:97@imapopyoga.com
DTSTART:20240907T150000Z
DTEND:20240907T170000Z
DTSTAMP:20240829T140922Z
URL:https://imapopyoga.com/events/pop-pilates-yoga-a-la-guinguette-de-roch
 ecorbon/
SUMMARY:Pop Pilates & Yoga à la Guinguette de Rochecorbon
DESCRIPTION:On pique la piste de danse et on se donne rendez-vous sous la b
 oule à facette (le rêve !) avce nos tapis.\n\nPlanning :\n\n*15h-15h45 P
 op Pilates\n\n*16h-16h45 Yoga (hatha flow)\n\nA prévoir : tenue confortab
 le et légère qui permet une belle amplitude de mouvements\, une gourde\,
  une petite serviette (optionnelle)\, un tapis de yoga/fitness/gym. (Si tu
  n'as pas de tapis\, tu peux prendre une ou deux serviettes de plage\, une
  couverture\, bref\, quelque chose pour amortir lorsque l'on fera des exer
 cices au sol. Si c'est le cas\, prévois également des baskets !)\n\nPrix
  libre à partir de 5€\n\nRendez-vous Quai de la Loire\, 37210 Rochecorb
 on\n\nRéservation par message.
ATTACH;FMTTYPE=image/jpeg:https://imapopyoga.com/wp-content/uploads/2024/0
 8/guinguette-pop-yoga.png
CATEGORIES:Pop Pilates,Yoga
END:VEVENT
END:VCALENDAR