BEGIN:VCALENDAR
VERSION:2.0
PRODID:-//wp-events-plugin.com//7.2.3.1//EN
BEGIN:VEVENT
UID:86@imapopyoga.com
DTSTART;TZID=Europe/Paris:20240728T113000
DTEND;TZID=Europe/Paris:20240728T123000
DTSTAMP:20240712T150536Z
URL:https://imapopyoga.com/events/yoga-au-parc-pique-nique/
SUMMARY:Yoga au parc + pique-nique !
DESCRIPTION:Cours tous niveaux\n\nParc de la Gloriette* (Je communiquerai l
 a localisation exacte plus tard aux participant.es)\n\nUne pause bien-êtr
 e au frais\, bienvenue dans le tumulte de l'été. Viens assouplir et renf
 orcer tout ton corps !\n\nCours suivi d'un pique-nique pour les personnes 
 qui le souhaitent !! Promis\, on parlera de tout et rien\, pas que de yoga
  \;) !\n\nPrix : 10€ / 6€ pour les personnes qui ont (ou avaient !) un
  abonnement avec moi cette année.\n\nPaiements en espèces\, réservation
  obligatoire ! (Me contacter directement ici\, sur whatsapp au 06 02 44 36
  51 ou bien sur instagram @imapopyoga)\n\n*selon la météo\, les cours pe
 uvent être annulés ou déplacés au 1 rue du Maréchal Lyautey.
ATTACH;FMTTYPE=image/jpeg:https://imapopyoga.com/wp-content/uploads/2024/0
 7/19.png
END:VEVENT
BEGIN:VTIMEZONE
TZID:Europe/Paris
X-LIC-LOCATION:Europe/Paris
BEGIN:DAYLIGHT
DTSTART:20240331T030000
TZOFFSETFROM:+0100
TZOFFSETTO:+0200
TZNAME:CEST
END:DAYLIGHT
END:VTIMEZONE
END:VCALENDAR