BEGIN:VCALENDAR
VERSION:2.0
PRODID:-//wp-events-plugin.com//7.2.3.1//EN
BEGIN:VEVENT
UID:101@imapopyoga.com
DTSTART:20241117T100000Z
DTEND:20241117T110000Z
DTSTAMP:20241024T101929Z
URL:https://imapopyoga.com/events/yoga-en-famille-2/
SUMMARY:Yoga en Famille !
DESCRIPTION:Une belle occasion de partager un moment d’éveil et de jeux 
 en famille ! Les parents s’amusent autant que les enfants\, tout en déc
 ouvrant ensemble le yoga\, ses bienfaits et des techniques de respiration.
  Un instant privilégié pour renforcer les liens familiaux tout en initia
 nt les plus petits (et les plus grands !) au bien-être\, dans une ambianc
 e douce et ludique.\n\nDuo 20Eur / Trio 30Eur / Quatuor 35Eur à partir de
  2 ans\n\nRendez-vous à la Wonder Mom Academy\, 1 rue du Maréchal Lyaute
 y\, à Tours\n\nRéservation par message.
ATTACH;FMTTYPE=image/jpeg:https://imapopyoga.com/wp-content/uploads/2024/0
 8/pexels-valeria-ushakova-603898-3094230-1-scaled.jpg
CATEGORIES:Yoga en famille
LOCATION:WMA\, 1 rue du maréchal lyautey\, Tours \, 37000\, France
X-APPLE-STRUCTURED-LOCATION;VALUE=URI;X-ADDRESS=1 rue du maréchal lyautey\
 , Tours \, 37000\, France;X-APPLE-RADIUS=100;X-TITLE=WMA:geo:0,0
END:VEVENT
END:VCALENDAR