BEGIN:VCALENDAR
VERSION:2.0
PRODID:-//wp-events-plugin.com//7.2.3.1//EN
BEGIN:VEVENT
UID:83@imapopyoga.com
DTSTART;TZID=Europe/Paris:20251102T143000
DTEND;TZID=Europe/Paris:20251102T160000
DTSTAMP:20251025T133310Z
URL:https://imapopyoga.com/events/yoga-en-ligne/
SUMMARY:Atelier de Yoga en ligne pour libérer les mémoires féminines : C
 utting Cords
DESCRIPTION:Atelier de Yoga en ligne pour libérer les mémoires féminines
  : Cutting Cords\n\nAs-tu déjà pensé que certains de tes blocages ne t
 ’appartenaient pas vraiment — qu’ils étaient peut-être un héritag
 e transmis de femme en femme ?On dit qu’une femme porte en elle l’hist
 oire de toutes les femmes.\nÀ l’occasion d’Halloween\, je t’invite 
 à un moment à la fois mystique et libérateur :🪄 un atelier de yoga e
 n ligne pour libérer les mémoires féminines.\nUn rendez-vous symbolique
  pour celles qui sentent qu’il est temps de se détacher du passé\, d
 ’honorer leur lignée et de renaître à elles-mêmes.\n\n\nL'histoire d
 es femmes : la peur en héritage\nDepuis des siècles\, les femmes ont app
 ris à se taire\, à se faire petites pour survivre.Aujourd’hui\, nous p
 ortons encore leurs blessures\, parfois sans même nous en rendre compte.\
 n
ATTACH;FMTTYPE=image/jpeg:https://imapopyoga.com/wp-content/uploads/2024/0
 6/atelier-cutting-cords.png
CATEGORIES:Yoga
END:VEVENT
BEGIN:VTIMEZONE
TZID:Europe/Paris
X-LIC-LOCATION:Europe/Paris
BEGIN:STANDARD
DTSTART:20251026T020000
TZOFFSETFROM:+0200
TZOFFSETTO:+0100
TZNAME:CET
END:STANDARD
END:VTIMEZONE
END:VCALENDAR