BEGIN:VCALENDAR
VERSION:2.0
PRODID:-//wp-events-plugin.com//7.2.3.1//EN
BEGIN:VEVENT
UID:84@imapopyoga.com
DTSTART:20240628T193000Z
DTEND:20240628T203000Z
DTSTAMP:20240625T200455Z
URL:https://imapopyoga.com/events/yoga-hatha/
SUMMARY:Yoga (Hatha)
DESCRIPTION:Des enchaînements apaisants\, intenses\, variés et originaux 
 t’attendent dans ces classes tous niveaux\, pensées pour te permettre d
 e faire une pause et appréhender autrement le quotidien. Pas d’expérie
 nce requise\, juste l’envie d’explorer\, de découvrir de nouvelles fa
 çons de bouger son corps… Tu seras étonné.e de tout ce dont il est ca
 pable !\n\nEn savoir plus sur les cours.\n\nRéserve ta place ici.
ATTACH;FMTTYPE=image/jpeg:https://imapopyoga.com/wp-content/uploads/2024/0
 5/yoga-dynamique-1.png
CATEGORIES:Yoga
LOCATION:WMA\, 1 rue du maréchal lyautey\, Tours \, 37000\, France
X-APPLE-STRUCTURED-LOCATION;VALUE=URI;X-ADDRESS=1 rue du maréchal lyautey\
 , Tours \, 37000\, France;X-APPLE-RADIUS=100;X-TITLE=WMA:geo:0,0
END:VEVENT
END:VCALENDAR